BEGIN:VCALENDAR
VERSION:2.0
PRODID:TU Chemnitz
METHOD:PUBLISH
X-WR-CALNAME:Veranstaltungen der TU Chemnitz
X-WR-TIMEZONE:Europe/Berlin
BEGIN:VEVENT
CLASS:PUBLIC
DTSTART;TZID="Europe/Berlin":20150630T173000
DTEND;TZID="Europe/Berlin":20150630T190000
LOCATION:Str. der Nationen 62\, Chemnitz (Altes Heizhaus)
SUMMARY:UNIX-Stammtisch in Sachsen (Universitätsrechenzentrum)
DESCRIPTION:Thema: Ansible - Einfache und schnelle Softwareverteilung\, Konfigurationsmanagement und Orchestration von Computersystemen via SSH\nTobias Gall\, TU Chemnitz\, Fakultät für Informatik\nYvonne Mußmacher\, Tel. 0371 531-38547
ORGANIZER:MAILTO:angela.tulke@hrz.tu-chemnitz.de
UID:17051@www.tu-chemnitz.de
CREATED:20150604T095200Z
DTSTAMP:20210802T184819Z
END:VEVENT
END:VCALENDAR
