BEGIN:VCALENDAR
VERSION:2.0
PRODID:TU Chemnitz
METHOD:PUBLISH
X-WR-CALNAME:Veranstaltungen der TU Chemnitz
X-WR-TIMEZONE:Europe/Berlin
BEGIN:VEVENT
CLASS:PUBLIC
DTSTART;TZID="Europe/Berlin":20150627T090000
DTEND;TZID="Europe/Berlin":20150627T180000
LOCATION:Reichenhainer Str. 90\, Chemnitz (Zentr. Hörsaal- und Seminargebäude)
SUMMARY:Interdisziplinäre Tagung: Identität und kulturelle Praktiken im digitalen Zeitalter (Philosophische Fakultät\, Interkulturelle Kommunikation)
DESCRIPTION:Ziel dieser Tagung ist es die unterschiedlichen Facetten der identitätsstiftenden Alltagspraktiken im Hinblick auf die Trends und Herausforderungen der digitalen Wende zeitdiagnostisch zu diskutieren und kritisch zu reflektieren.\nDr. Galina Rebane\, galina.rebane@phil.tu-chemnitz.de
ORGANIZER:MAILTO:marcus.nolden@phil.tu-chemnitz.de
UID:17040@www.tu-chemnitz.de
CREATED:20150603T121900Z
DTSTAMP:20210802T184829Z
END:VEVENT
END:VCALENDAR
