BEGIN:VCALENDAR
VERSION:2.0
PRODID:TU Chemnitz
METHOD:PUBLISH
X-WR-CALNAME:Veranstaltungen der TU Chemnitz
X-WR-TIMEZONE:Europe/Berlin
BEGIN:VEVENT
CLASS:PUBLIC
DTSTART;TZID="Europe/Berlin":20150603T160000
DTEND;TZID="Europe/Berlin":20150603T173000
LOCATION:Reichenhainer Str. 90\, Chemnitz (Zentr. Hörsaal- und Seminargebäude)
SUMMARY:Physikalisches Kolloquium (Fakultät für Naturwissenschaften\, Institut für Physik)
DESCRIPTION:Thema: "ELBE: Europes most powerful IR/THz photon facility for Solid State Research"\nDr. Michael Gensch (HZDR)\nProf. Dr. Dr. h. c. Dietrich R. T. Zahn
ORGANIZER:MAILTO:angelika.hiller@physik.tu-chemnitz.de
UID:16998@www.tu-chemnitz.de
CREATED:20150519T144400Z
DTSTAMP:20210802T184833Z
END:VEVENT
END:VCALENDAR
