BEGIN:VCALENDAR
VERSION:2.0
PRODID:TU Chemnitz
METHOD:PUBLISH
X-WR-CALNAME:Veranstaltungen der TU Chemnitz
X-WR-TIMEZONE:Europe/Berlin
BEGIN:VEVENT
CLASS:PUBLIC
DTSTART;TZID="Europe/Berlin":20150528T210000
DTEND;TZID="Europe/Berlin":20150528T230000
LOCATION:
SUMMARY:Film: #ZEITGEIST ("mittendrin" - das campuskino)
DESCRIPTION:Display im Kopf... Pornos im Kinderzimmer und eine spionierende Mutter: Jason Reitman ("Juno"\, "Up in the Air") entwirft in "#Zeitgeist" ein kleines Panoptikum digitaler Krankheitsbilder. Ein Film über die dauernde Erreichbarkeit und Überwachung...\nfilmclub@tu-chemnitz.de
ORGANIZER:MAILTO:christina.axt@s2010.tu-chemnitz.de
UID:16997@www.tu-chemnitz.de
CREATED:20150519T131400Z
DTSTAMP:20210802T185040Z
END:VEVENT
END:VCALENDAR
