BEGIN:VCALENDAR
VERSION:2.0
PRODID:TU Chemnitz
METHOD:PUBLISH
X-WR-CALNAME:Veranstaltungen der TU Chemnitz
X-WR-TIMEZONE:Europe/Berlin
BEGIN:VEVENT
CLASS:PUBLIC
DTSTART;TZID="Europe/Berlin":20150521T210000
DTEND;TZID="Europe/Berlin":20150521T230000
LOCATION:filmclub "mittendrin"\, reichenhainer str. 35/37\, keller\, 09126 chemnitz
SUMMARY:Film: THE DROP - BARGELD (filmclub "mittendrin")
DESCRIPTION:Eine Bar in Brooklyn dient der Mafia als Gelddepot\, bis sie überfallen wird. Wie sich in dem furiosen Thriller die Konflikte hochschaukeln und mit eleganter Coolness der raffinierte Plot entwickelt\, ist so überraschend wie spannend.\nfilmclub@tu-chemnitz.de
ORGANIZER:MAILTO:christina.axt@s2010.tu-chemnitz.de
UID:16993@www.tu-chemnitz.de
CREATED:20150518T135900Z
DTSTAMP:20210802T185041Z
END:VEVENT
END:VCALENDAR
