BEGIN:VCALENDAR
VERSION:2.0
PRODID:TU Chemnitz
METHOD:PUBLISH
X-WR-CALNAME:Veranstaltungen der TU Chemnitz
X-WR-TIMEZONE:Europe/Berlin
BEGIN:VEVENT
CLASS:PUBLIC
DTSTART;TZID="Europe/Berlin":20150707T173000
DTEND;TZID="Europe/Berlin":20150707T190000
LOCATION:Reichenhainer Str. 90\, Chemnitz (Zentr. Hörsaal- und Seminargebäude)
SUMMARY:Utopie Vollbeschäftigung? Warum es Arbeitszeitverkürzung mit Lohn- und Personalausgleich braucht (Fakultät für Wirtschaftswissenschaften\, Professur für Finanzwissenschaft)
DESCRIPTION:Gasteferent Prof. Dr. Heinz-Josef Bontrup (Westfälische Hochschule) referiert im Rahmen des Chemnitzer Wirtschaftswissenschaftlichen Forschungsseminars. Interessenten sind herzlich zu dieser Veranstaltung eingeladen.\nProf. Dr. Heinz-Josef Bontrup (Westfälische Hochschule)\nkeine Anmeldung erforderlich
ORGANIZER:MAILTO:anja.zenker@wirtschaft.tu-chemnitz.de
UID:16975@www.tu-chemnitz.de
CREATED:20150507T181700Z
DTSTAMP:20210802T184344Z
END:VEVENT
END:VCALENDAR
