BEGIN:VCALENDAR
VERSION:2.0
PRODID:TU Chemnitz
METHOD:PUBLISH
X-WR-CALNAME:Veranstaltungen der TU Chemnitz
X-WR-TIMEZONE:Europe/Berlin
BEGIN:VEVENT
CLASS:PUBLIC
DTSTART;TZID="Europe/Berlin":20150604T193000
DTEND;TZID="Europe/Berlin":20150604T210000
LOCATION:Str. der Nationen 62\, Chemnitz (Altes Heizhaus)
SUMMARY:“Moderne Naturwissenschaft und christlicher Glaube - ein Widerspruch?”- Forum Glauben & Denken (TU Chemnitz)
DESCRIPTION:Das Forum Glauben & Denken lädt zu einer Vortragsserie ein\, bei der der christliche Glaube in einen akademischen Dialog mit anderen Weltanschauungen tritt. Die Referenten schlagen Brücken zwischen ihrer wissenschaftlichen Disziplin und Glaubensfragen.\nProf Dr. Barbara Drossel; TU Darmstadt\nhttp://www.glaubenunddenken.de/
ORGANIZER:MAILTO:esra.urmoneit@s2010.tu-chemnitz.de
UID:16958@www.tu-chemnitz.de
CREATED:20150501T152600Z
DTSTAMP:20210802T184834Z
END:VEVENT
END:VCALENDAR
