BEGIN:VCALENDAR
VERSION:2.0
PRODID:TU Chemnitz
METHOD:PUBLISH
X-WR-CALNAME:Veranstaltungen der TU Chemnitz
X-WR-TIMEZONE:Europe/Berlin
BEGIN:VEVENT
CLASS:PUBLIC
DTSTART;TZID="Europe/Berlin":20150519T190000
DTEND;TZID="Europe/Berlin":20150519T210000
LOCATION:Reichenhainer Str. 70\, Chemnitz (Rühlmann-Bau)
SUMMARY:Ökosoziale Ringvorlesung der Natuc Teil 3/5: „Rüstung - Abrüstung - Konversion: Schritte auf dem Weg zu einer nachhaltigen Kontrolle konventioneller Waffen“ (Studentenrat\, Referat für Ökologie und Nachhaltigkeit)
DESCRIPTION:Ob in Libyen\, Syrien oder im Irak\, es scheint\, als wären Waffenexporte nur ein Problem\, wenn sie nicht statt?nden. Aber sind Waffen wirklich geeignet um Frieden zu schaffen? Tragen Rüstungsexporte zu einer nachhaltigen Entwicklung bei?\nFabian Sieber\, pax christi\nreferat.oekologie@tu-chemnitz.de
ORGANIZER:MAILTO:lisa-franziska.gerlach@s2012.tu-chemnitz.de
UID:16923@www.tu-chemnitz.de
CREATED:20150423T092400Z
DTSTAMP:20210802T185039Z
END:VEVENT
END:VCALENDAR
