BEGIN:VCALENDAR
VERSION:2.0
PRODID:TU Chemnitz
METHOD:PUBLISH
X-WR-CALNAME:Veranstaltungen der TU Chemnitz
X-WR-TIMEZONE:Europe/Berlin
BEGIN:VEVENT
CLASS:PUBLIC
DTSTART;TZID="Europe/Berlin":20150421T153000
DTEND;TZID="Europe/Berlin":20150421T170000
LOCATION:Reichenhainer Str. 70\, Chemnitz (Weinhold-Bau)
SUMMARY:Die Kampagnendynamik der Bundestagswahl 2013 (Philosophische Fakultät\, Juniorprofessur Politikwissenschaftliche Forschungsmethoden)
DESCRIPTION:Vortrag und Diskussion zur Rolling Cross-Section-Studie im Rahmen der „German Longitudinal Election Study“ 2013. Der Eintritt ist frei\, eine Anmeldung ist nicht erforderlich.\nJulia Partheymüller\, Mannheimer Zentrum für Europäische Sozialforschung (MZES)\nJun.-Prof. Dr. Tom Mannewitz\, +49 371 531-39825\, tom.mannewitz@phil.tu-chemnitz.de
ORGANIZER:MAILTO:robert.steudtner@phil.tu-chemnitz.de
UID:16915@www.tu-chemnitz.de
CREATED:20150416T124500Z
DTSTAMP:20210802T185230Z
END:VEVENT
END:VCALENDAR
