BEGIN:VCALENDAR
VERSION:2.0
PRODID:TU Chemnitz
METHOD:PUBLISH
X-WR-CALNAME:Veranstaltungen der TU Chemnitz
X-WR-TIMEZONE:Europe/Berlin
BEGIN:VEVENT
CLASS:PUBLIC
DTSTART;TZID="Europe/Berlin":20150624T154500
DTEND;TZID="Europe/Berlin":20150624T171500
LOCATION:Zentralbibliothek\, Eingang Bahnhofstraße 2\, Raum 221
SUMMARY:Kurs Literaturverwaltung mit Zotero (Universitätsbibliothek)
DESCRIPTION:Beim Management von Aufsätzen\, Büchern\, digitalen Volltexten und für die Erstellung von Zitierungen hilft eine Literaturverwaltung. Ein praxisnaher Workshop erklärt das (kostenfreie) Programm.\nDagmar Hesse\, Universitätsbibliothek\nhttps://www.tu-chemnitz.de/ub/kurse-und-e-learning/fuehrung-schulung/literaturverwaltung.html
ORGANIZER:MAILTO:dagmar.hesse@bibliothek.tu-chemnitz.de
UID:16914@www.tu-chemnitz.de
CREATED:20150416T124100Z
DTSTAMP:20210802T184829Z
END:VEVENT
END:VCALENDAR
