BEGIN:VCALENDAR
VERSION:2.0
PRODID:TU Chemnitz
METHOD:PUBLISH
X-WR-CALNAME:Veranstaltungen der TU Chemnitz
X-WR-TIMEZONE:Europe/Berlin
BEGIN:VEVENT
CLASS:PUBLIC
DTSTART;TZID="Europe/Berlin":20150420T190000
DTEND;TZID="Europe/Berlin":20150420T203000
LOCATION:Thüringer Weg 9\, Chemnitz
SUMMARY:Herausforderung gesucht? (Studentische Unternehmensberatung jungblick consulting e.V.)
DESCRIPTION:Du suchst eine Herausforderung neben Deinem Studium? Möchtest bereits jetzt mit Unternehmen in Kontakt kommen und spannende Projekte bearbeiten? Informiere Dich über Deine Möglichkeiten. Verbindliche Raumangabe: Thüringer Weg 7\, Raum K012\nlinda.galle@jungblick.de
ORGANIZER:MAILTO:alexander.krauss@jungblick.de
UID:16912@www.tu-chemnitz.de
CREATED:20150416T115000Z
DTSTAMP:20210802T185231Z
END:VEVENT
END:VCALENDAR
