BEGIN:VCALENDAR
VERSION:2.0
PRODID:TU Chemnitz
METHOD:PUBLISH
X-WR-CALNAME:Veranstaltungen der TU Chemnitz
X-WR-TIMEZONE:Europe/Berlin
BEGIN:VEVENT
CLASS:PUBLIC
DTSTART;TZID="Europe/Berlin":20150528T190000
DTEND;TZID="Europe/Berlin":20150528T203000
LOCATION:Reichenhainer Str. 90\, Chemnitz (Zentr. Hörsaal- und Seminargebäude)
SUMMARY:KUNST_FRAUEN_FEMINISMUS (Philosophische Fakultät\, Romanische Kulturwissenschaft)
DESCRIPTION:KUNST_FRAUEN_FEMINISMUS Louise Bourgeois\, Annette Messager et Sophie CalleART_FEMMES_FÉMINISMEVortrag auf Deutsch mit französischen Einsprengseln in Zusammenarbeit mit der Deutsch-Französischen Gesellschaft\nProf. Ulrike Brummert\, docteur d´Etat\nManja Berte\, 0371 531 39272\, manja.berte@phil.tu-chemnitz.de
ORGANIZER:MAILTO:manja.berte@phil.tu-chemnitz.de
UID:16911@www.tu-chemnitz.de
CREATED:20150415T142500Z
DTSTAMP:20210802T185035Z
END:VEVENT
END:VCALENDAR
