BEGIN:VCALENDAR
VERSION:2.0
PRODID:TU Chemnitz
METHOD:PUBLISH
X-WR-CALNAME:Veranstaltungen der TU Chemnitz
X-WR-TIMEZONE:Europe/Berlin
BEGIN:VEVENT
CLASS:PUBLIC
DTSTART;TZID="Europe/Berlin":20150424T081500
DTEND;TZID="Europe/Berlin":20150424T180000
LOCATION:Wilhelm-Raabe-Str. 43\, Chemnitz
SUMMARY:6. Mitteldeutsche Studentenkonferenz Logistik des BVL (Fakultät für Maschinenbau\, Professur Fördertechnik und die BVL)
DESCRIPTION:https://studentenkonferenz.wordpress.com/\nDésirée-Frances Günther\, Tel.: -31498\, Mail: desiree-frances.guenther@mb.tu-chemnitz.de 
ORGANIZER:MAILTO:desiree-frances.guenther@mb.tu-chemnitz.de
UID:16894@www.tu-chemnitz.de
CREATED:20150413T104700Z
DTSTAMP:20210802T185231Z
END:VEVENT
END:VCALENDAR
