BEGIN:VCALENDAR
VERSION:2.0
PRODID:TU Chemnitz
METHOD:PUBLISH
X-WR-CALNAME:Veranstaltungen der TU Chemnitz
X-WR-TIMEZONE:Europe/Berlin
BEGIN:VEVENT
CLASS:PUBLIC
DTSTART;TZID="Europe/Berlin":20150414T190000
DTEND;TZID="Europe/Berlin":20150414T210000
LOCATION:Reichenhainer Str. 70\, Chemnitz (Rühlmann-Bau)
SUMMARY:Infoveranstaltung zur Lauf-KulTour 2015 (Lauf-KulTour e.V.)
DESCRIPTION:Du wärst gern fit wie ein Turnschuh oder bist es schon? Wir suchen 12 LäuferInnen und 8 RadbegleiterInnen für unser Team 2015. Gemeinsam trainieren wir für den längsten alljährlichen Staffellauf der Welt vom 21.08. bis 06.08.\nSteffen Kehrer\nAnmeldung nicht nötig
ORGANIZER:MAILTO:eric.pertermann@etit.tu-chemnitz.de
UID:16892@www.tu-chemnitz.de
CREATED:20150413T101300Z
DTSTAMP:20210802T185229Z
END:VEVENT
END:VCALENDAR
