BEGIN:VCALENDAR
VERSION:2.0
PRODID:TU Chemnitz
METHOD:PUBLISH
X-WR-CALNAME:Veranstaltungen der TU Chemnitz
X-WR-TIMEZONE:Europe/Berlin
BEGIN:VEVENT
CLASS:PUBLIC
DTSTART;TZID="Europe/Berlin":20150520T100000
DTEND;TZID="Europe/Berlin":20150520T160000
LOCATION:Reichenhainer Str. 90\, Chemnitz (Zentr. Hörsaal- und Seminargebäude)
SUMMARY: WIK-CHEMNITZ AM TAG DER INDUSTRIE & WISSENSCHAFT (IPlaCon GmbH)
DESCRIPTION:Firmenkontaktbörse mit vielfältigem Rahmenprogramm für alle Studierenden der TU Chemnitz.\n0375 883-8147
ORGANIZER:MAILTO:julita.schmidt@verwaltung.tu-chemnitz.de
UID:16872@www.tu-chemnitz.de
CREATED:20150408T083900Z
DTSTAMP:20210802T185039Z
END:VEVENT
END:VCALENDAR
