BEGIN:VCALENDAR
VERSION:2.0
PRODID:TU Chemnitz
METHOD:PUBLISH
X-WR-CALNAME:Veranstaltungen der TU Chemnitz
X-WR-TIMEZONE:Europe/Berlin
BEGIN:VEVENT
CLASS:PUBLIC
DTSTART;TZID="Europe/Berlin":20150422T134500
DTEND;TZID="Europe/Berlin":20150422T151500
LOCATION:Reichenhainer Str. 70\, Chemnitz (Weinhold-Bau)
SUMMARY:Nutzerforum „Datenbanken – zu MySQL gesellt sich PostgreSQL“ (Universitätsrechenzentrum)
DESCRIPTION:Vorstellung des PostgreSQL-Datenbankservices\, Beauftragung und Verwaltung von Datenbanken\nA. Heik\, D. Schreiber\nkeine Anmeldung erforderlich
ORGANIZER:MAILTO:antje.schreiber@hrz.tu-chemnitz.de
UID:16850@www.tu-chemnitz.de
CREATED:20150331T121700Z
DTSTAMP:20210802T185236Z
END:VEVENT
END:VCALENDAR
