BEGIN:VCALENDAR
VERSION:2.0
PRODID:TU Chemnitz
METHOD:PUBLISH
X-WR-CALNAME:Veranstaltungen der TU Chemnitz
X-WR-TIMEZONE:Europe/Berlin
BEGIN:VEVENT
CLASS:PUBLIC
DTSTART;TZID="Europe/Berlin":20150624T191500
DTEND;TZID="Europe/Berlin":20150624T204500
LOCATION:Staatliches Museum für Archäologie\, Stefan-Heym-Platz 1\, 09111 Chemnitz
SUMMARY:"Transformationen der Antike" in Mittelalter und Renaissanc (Philosophische Fakultät\, Institut für Europäische Geschichte / Institut für Germanistik und Kommunikation)
DESCRIPTION:Vortrag im Rahmen der Ringvorlesung "Die Gegenwart der Vergangenheit" zur Einführung des Masterstudienganges "Rezeptionskulturen der Vormoderne"\nProf. Dr. Johannes Helmrath\, Berlin\nMartin Munke M.A.\, 0371/531-39214\, martin.munke@phil.tu-chemnitz.de
ORGANIZER:MAILTO:martin.munke@phil.tu-chemnitz.de
UID:16845@www.tu-chemnitz.de
CREATED:20150330T135900Z
DTSTAMP:20210802T184822Z
END:VEVENT
END:VCALENDAR
