BEGIN:VCALENDAR
VERSION:2.0
PRODID:TU Chemnitz
METHOD:PUBLISH
X-WR-CALNAME:Veranstaltungen der TU Chemnitz
X-WR-TIMEZONE:Europe/Berlin
BEGIN:VEVENT
CLASS:PUBLIC
DTSTART;TZID="Europe/Berlin":20150603T190000
DTEND;TZID="Europe/Berlin":20150603T203000
LOCATION:Reichenhainer Str. 90\, Chemnitz (Zentr. Hörsaal- und Seminargebäude)
SUMMARY:Fitness fürs Gehirn: Der Einsatz neurophysiologischer Methoden zur Erforschung des Zusammenhangs zwischen Bewegung und Kognition (Fakultät für Human- und Sozialwissenschaften\, Methodenkompetenzzentrum der HSW)
DESCRIPTION:Die Vorträge sind für jedermann geöffnet. Es wird kein Eintritt erhoben.\nProf. Dr. Claudia Voelcker-Rehage\, Jacobs Universität Bremen\njulia.augustijn@hsw.tu-chemnitz.de
ORGANIZER:MAILTO:julia.augustijn@hsw.tu-chemnitz.de
UID:16830@www.tu-chemnitz.de
CREATED:20150324T143400Z
DTSTAMP:20210802T184822Z
END:VEVENT
END:VCALENDAR
