BEGIN:VCALENDAR
VERSION:2.0
PRODID:TU Chemnitz
METHOD:PUBLISH
X-WR-CALNAME:Veranstaltungen der TU Chemnitz
X-WR-TIMEZONE:Europe/Berlin
BEGIN:VEVENT
CLASS:PUBLIC
DTSTART;TZID="Europe/Berlin":20150506T190000
DTEND;TZID="Europe/Berlin":20150506T203000
LOCATION:Reichenhainer Str. 90\, Chemnitz (Zentr. Hörsaal- und Seminargebäude)
SUMMARY:Risiko: Wie man die richtigen Entscheidungen trifft (Fakultät für Human- und Sozialwissenschaften\, Methodenkompetenzzentrum der HSW)
DESCRIPTION:Gerd Gigerenzer ist der breiten Öffentlichkeit bekannt durch seine Bücher „Das Einmaleins der Skepsis“ und „Bauchentscheidungen: Die Intelligenz des Unbewussten“. Die Vorträge sind für jedermann geöffnet. Es wird kein Eintritt erhoben.\nProf. Dr. phil. Gerd Gigerenzer\, Max-Planck-Institut für Bildungsforschung in Berlin\njulia.augustijn@hsw.tu-chemnitz.de
ORGANIZER:MAILTO:julia.augustijn@hsw.tu-chemnitz.de
UID:16828@www.tu-chemnitz.de
CREATED:20150324T140700Z
DTSTAMP:20210802T185041Z
END:VEVENT
END:VCALENDAR
