BEGIN:VCALENDAR
VERSION:2.0
PRODID:TU Chemnitz
METHOD:PUBLISH
X-WR-CALNAME:Veranstaltungen der TU Chemnitz
X-WR-TIMEZONE:Europe/Berlin
BEGIN:VEVENT
CLASS:PUBLIC
DTSTART;TZID="Europe/Berlin":20150623T153000
DTEND;TZID="Europe/Berlin":20150623T170000
LOCATION:Reichenhainer Str. 90\, Chemnitz (Zentr. Hörsaal- und Seminargebäude)
SUMMARY:1000 Jahre Mode - Bekleidung im Wandel der Rochsburg (Seniorenkolleg)
DESCRIPTION:Anne Katrin Koch\, Geschäftsführerin Netz-Werk Mittweida e.V.\, Lutz Henning\, Museumsleiter Schloss Rochsburg\ndienstags von 10 bis 14 Uhr\, 0371 531-19075\, -19074
ORGANIZER:MAILTO:chhae@hrz.tu-chemnitz.de
UID:16822@www.tu-chemnitz.de
CREATED:20150322T102700Z
DTSTAMP:20210802T184810Z
END:VEVENT
END:VCALENDAR
