BEGIN:VCALENDAR
VERSION:2.0
PRODID:TU Chemnitz
METHOD:PUBLISH
X-WR-CALNAME:Veranstaltungen der TU Chemnitz
X-WR-TIMEZONE:Europe/Berlin
BEGIN:VEVENT
CLASS:PUBLIC
DTSTART;TZID="Europe/Berlin":20150602T153000
DTEND;TZID="Europe/Berlin":20150602T170000
LOCATION:Reichenhainer Str. 90\, Chemnitz (Zentr. Hörsaal- und Seminargebäude)
SUMMARY:Auf dem Weg zum Reformationsjubiläum 2017 (Seniorenkolleg)
DESCRIPTION:Superintendent Andreas Conzendorf\, Dorothee Lücke\, Dr. Christoph Herbst\, Evangelisch-Lutherische Kirche Chemnitz\ndienstags von 10 bis 14 Uhr\, 0371 531-19075\, -19074
ORGANIZER:MAILTO:chhae@hrz.tu-chemnitz.de
UID:16819@www.tu-chemnitz.de
CREATED:20150322T100800Z
DTSTAMP:20210802T184818Z
END:VEVENT
END:VCALENDAR
