BEGIN:VCALENDAR
VERSION:2.0
PRODID:TU Chemnitz
METHOD:PUBLISH
X-WR-CALNAME:Veranstaltungen der TU Chemnitz
X-WR-TIMEZONE:Europe/Berlin
BEGIN:VEVENT
CLASS:PUBLIC
DTSTART;TZID="Europe/Berlin":20150512T153000
DTEND;TZID="Europe/Berlin":20150512T170000
LOCATION:Reichenhainer Str. 90\, Chemnitz (Zentr. Hörsaal- und Seminargebäude)
SUMMARY:7. Sächsische Landesgartenschau Oelsnitz/Erzgebirge 2015 (Seniorenkolleg)
DESCRIPTION:Jochen Heinz\, Geschäftsführer Landesgartenschau Oelsnitz/Erzgebirge gGmbH\ndienstags von 10 bis 14 Uhr\, 0371 531-19075\, -19074
ORGANIZER:MAILTO:chhae@hrz.tu-chemnitz.de
UID:16816@www.tu-chemnitz.de
CREATED:20150322T095400Z
DTSTAMP:20210802T185039Z
END:VEVENT
END:VCALENDAR
