BEGIN:VCALENDAR
VERSION:2.0
PRODID:TU Chemnitz
METHOD:PUBLISH
X-WR-CALNAME:Veranstaltungen der TU Chemnitz
X-WR-TIMEZONE:Europe/Berlin
BEGIN:VEVENT
CLASS:PUBLIC
DTSTART;TZID="Europe/Berlin":20150428T153000
DTEND;TZID="Europe/Berlin":20150428T170000
LOCATION:Reichenhainer Str. 90\, Chemnitz (Zentr. Hörsaal- und Seminargebäude)
SUMMARY:Das Industriemuseum Chemnitz und sein Förderverein (Seniorenkolleg)
DESCRIPTION:Achim Dresler\, Stellv. Direktor Industriemuseum\, Dr. Wolfram Hoschke\, Vorsitzender Förderverein Industriemuseum Chemnitz e.V.\ndienstags von 10 bis 14 Uhr\, 0371 531-19075\, -19074
ORGANIZER:MAILTO:chhae@hrz.tu-chemnitz.de
UID:16814@www.tu-chemnitz.de
CREATED:20150322T093200Z
DTSTAMP:20210802T185234Z
END:VEVENT
END:VCALENDAR
