BEGIN:VCALENDAR
VERSION:2.0
PRODID:TU Chemnitz
METHOD:PUBLISH
X-WR-CALNAME:Veranstaltungen der TU Chemnitz
X-WR-TIMEZONE:Europe/Berlin
BEGIN:VEVENT
CLASS:PUBLIC
DTSTART;TZID="Europe/Berlin":20150415T143000
DTEND;TZID="Europe/Berlin":20150415T163000
LOCATION:Fraunhofer IWU Chemnitz\, Reichenhainer Str. 88\, Raum H130/131
SUMMARY:Promotionsverteidigung (Fakultät für Maschinenbau\, Professur für Werkzeugmaschinen und Umformtechnik)
DESCRIPTION:"Beitrag zur Prozesskettensimulation geschweißter Aluminium-Karosserieanbauteile"\nDipl.-Ing.(FH) Wilhelm Schützle (betr. HSL: Prof. R. Neugebauer)\nMadeleine Matthes\, 0371/531-23501\, wzm@mb.tu-chemnitz.de
ORGANIZER:MAILTO:madeleine.matthes@mb.tu-chemnitz.de
UID:16805@www.tu-chemnitz.de
CREATED:20150311T162600Z
DTSTAMP:20210802T185231Z
END:VEVENT
END:VCALENDAR
