BEGIN:VCALENDAR
VERSION:2.0
PRODID:TU Chemnitz
METHOD:PUBLISH
X-WR-CALNAME:Veranstaltungen der TU Chemnitz
X-WR-TIMEZONE:Europe/Berlin
BEGIN:VEVENT
CLASS:PUBLIC
DTSTART;TZID="Europe/Berlin":20150527T171500
DTEND;TZID="Europe/Berlin":20150527T200000
LOCATION:Reichenhainer Str. 70\, Chemnitz (Weinhold-Bau)
SUMMARY:Master-Plan (MLP Chemnitz)
DESCRIPTION:MLP Chemnitz\nhttp://www.mlp-chemnitz1.de/seminare-an-der-technischen-universitaet/master-plan.cfm
ORGANIZER:MAILTO:stephanie.hoeber@verwaltung.tu-chemnitz.de
UID:16792@www.tu-chemnitz.de
CREATED:20150226T125800Z
DTSTAMP:20210802T185037Z
END:VEVENT
END:VCALENDAR
