BEGIN:VCALENDAR
VERSION:2.0
PRODID:TU Chemnitz
METHOD:PUBLISH
X-WR-CALNAME:Veranstaltungen der TU Chemnitz
X-WR-TIMEZONE:Europe/Berlin
BEGIN:VEVENT
CLASS:PUBLIC
DTSTART;TZID="Europe/Berlin":20150530T150000
DTEND;TZID="Europe/Berlin":20150530T170000
LOCATION:Reichenhainer Str. 90\, Chemnitz (Zentr. Hörsaal- und Seminargebäude)
SUMMARY:50 Jahre Fakultät für Elektrotechnik und Informationstechnik (Fakultät für Elektrotechnik und Informationstechnik\, (Anmeldung))
DESCRIPTION:Festveranstaltung im Rahmen des Alumni-Treffens 2015\nProf. Dr.-Ing. habil. Nam-Trung Nguyen\, Direktor des Queensland Micro- and Nanotechnology Centre\, Griffeth University Australie\nDie Online Anmeldung ist ab dem 1.3.2015 möglich.
ORGANIZER:MAILTO:karl.nestler@etit.tu-chemnitz.de
UID:16775@www.tu-chemnitz.de
CREATED:20150217T104400Z
DTSTAMP:20210802T185036Z
END:VEVENT
END:VCALENDAR
