BEGIN:VCALENDAR
VERSION:2.0
PRODID:TU Chemnitz
METHOD:PUBLISH
X-WR-CALNAME:Veranstaltungen der TU Chemnitz
X-WR-TIMEZONE:Europe/Berlin
BEGIN:VEVENT
CLASS:PUBLIC
DTSTART;TZID="Europe/Berlin":20150507T160000
DTEND;TZID="Europe/Berlin":20150507T180000
LOCATION:Str. der Nationen 62\, Chemnitz (Böttcher-Bau)
SUMMARY:GDCh-Kolloquium "Rost statt Edelmetall - über die CO-Oxidation an Eisenoxid-Katalysatoren" ("A rusty talk - on the CO oxidation on iron oxide catalysts (Fakultät für Naturwissenschaften)
DESCRIPTION:Prof. Dr. Sven Kureti - TU Bergakademie Freiberg\nJuniorprofessor Dr. Joachim Friedrich\, 0371/ 531 39415\, joachim.friedrich@chemie.tu-chemnitz.de
ORGANIZER:MAILTO:jeanette.doerr@chemie.tu-chemnitz.de
UID:16774@www.tu-chemnitz.de
CREATED:20150216T151300Z
DTSTAMP:20210802T185043Z
END:VEVENT
END:VCALENDAR
