BEGIN:VCALENDAR
VERSION:2.0
PRODID:TU Chemnitz
METHOD:PUBLISH
X-WR-CALNAME:Veranstaltungen der TU Chemnitz
X-WR-TIMEZONE:Europe/Berlin
BEGIN:VEVENT
CLASS:PUBLIC
DTSTART;TZID="Europe/Berlin":20150219T110000
DTEND;TZID="Europe/Berlin":20150219T130000
LOCATION:Fraunhofer IWU\, Reichenhainer Str. 88\, Raum H130
SUMMARY:Promotion Mike Zinecker  (Fakultät für Maschinenbau)
DESCRIPTION: Thema:"Einsatz mikro- und mesostrukturierter Oberflächen zur Verbesserung des Wärmeübergangs bei der Siedekühlung"\nDipl.-Ing. Mike Zinecker\, TU Chemnitz Professur Mikrofertigungstechnik\nmike.zinecker@mb.tu-chemniitz.de
ORGANIZER:MAILTO:simone.kias@mb.tu-chemnitz.de
UID:16767@www.tu-chemnitz.de
CREATED:20150211T140100Z
DTSTAMP:20210802T185444Z
END:VEVENT
END:VCALENDAR
