BEGIN:VCALENDAR
VERSION:2.0
PRODID:TU Chemnitz
METHOD:PUBLISH
X-WR-CALNAME:Veranstaltungen der TU Chemnitz
X-WR-TIMEZONE:Europe/Berlin
BEGIN:VEVENT
CLASS:PUBLIC
DTSTART;TZID="Europe/Berlin":20150210T080000
DTEND;TZID="Europe/Berlin":20150213T180000
LOCATION:Chemnitz\, Günnewig Hotel "Chemnitzer Hof"
SUMMARY:Fachtagung "Wave Propagation and Scattering in Communications\, Microwave Remote Sensing\, Navigation\, and High-Speed Digital Data Transmission" (Fakultät für Elektrotechnik und Informationstechnik\, Professur Hochfrequenztechnik und Theoretische Elektrotechnik)
DESCRIPTION:Tagung des ITG-Fachausschusses 7.5 "Wellenausbreitung"\nJana Vießmann\, Telefon 0371 531-24340
ORGANIZER:MAILTO:mario.steinebach@verwaltung.tu-chemnitz.de
UID:16763@www.tu-chemnitz.de
CREATED:20150211T091600Z
DTSTAMP:20210802T185449Z
END:VEVENT
END:VCALENDAR
