BEGIN:VCALENDAR
VERSION:2.0
PRODID:TU Chemnitz
METHOD:PUBLISH
X-WR-CALNAME:Veranstaltungen der TU Chemnitz
X-WR-TIMEZONE:Europe/Berlin
BEGIN:VEVENT
CLASS:PUBLIC
DTSTART;TZID="Europe/Berlin":20150212T103000
DTEND;TZID="Europe/Berlin":20150212T123000
LOCATION:Roter Turm\, Chemnitz
SUMMARY:Wege durch die Stadt III: Visionen einer Stadt (Philosophische Fakultät\, Romanische Kulturwissenschaft)
DESCRIPTION:Wir laden alle Interessierten ein\, an unseren\, von Studierenden organisierten\, thematischen Stadtrundgängen teilzunehmen. Eine Anmeldung ist nicht erforderlich.VISIONEN EINER STADT\nUlrike Brummert und Studierende\nMartin Bauch\, 0371/531-37677\, martin.bauch@phil.tu-chemnitz.de
ORGANIZER:MAILTO:martin.bauch@phil.tu-chemnitz.de
UID:16749@www.tu-chemnitz.de
CREATED:20150204T165100Z
DTSTAMP:20210802T185447Z
END:VEVENT
END:VCALENDAR
