BEGIN:VCALENDAR
VERSION:2.0
PRODID:TU Chemnitz
METHOD:PUBLISH
X-WR-CALNAME:Veranstaltungen der TU Chemnitz
X-WR-TIMEZONE:Europe/Berlin
BEGIN:VEVENT
CLASS:PUBLIC
DTSTART;TZID="Europe/Berlin":20150416T160000
DTEND;TZID="Europe/Berlin":20150416T180000
LOCATION:Str. der Nationen 62\, Chemnitz (Böttcher-Bau)
SUMMARY:GDCh-Kolloquium "Moleküle mit internem freien Volumen als lösliche Baueinheiten prozessierbarer Porosität" (Fakultät für Naturwissenschaften\, Institut für Chemie)
DESCRIPTION:Prof. Dr. Michael Mastalerz - Ruprecht-Karls-Universität Heidelberg\nJuniorprofessor Dr. Joachim Friedrich\, 0371/ 531 39415\, joachim.friedrich@chemie.tu-chemnitz.de
ORGANIZER:MAILTO:jeanette.doerr@chemie.tu-chemnitz.de
UID:16737@www.tu-chemnitz.de
CREATED:20150128T122500Z
DTSTAMP:20210802T185233Z
END:VEVENT
END:VCALENDAR
