BEGIN:VCALENDAR
VERSION:2.0
PRODID:TU Chemnitz
METHOD:PUBLISH
X-WR-CALNAME:Veranstaltungen der TU Chemnitz
X-WR-TIMEZONE:Europe/Berlin
BEGIN:VEVENT
CLASS:PUBLIC
DTSTART;TZID="Europe/Berlin":20150204T180000
DTEND;TZID="Europe/Berlin":20150204T200000
LOCATION:Thüringer Weg 9\, Chemnitz
SUMMARY:Ausstellung :: K o s t p r o b e n  (Philosophische Fakultät\, Institut für Europäische Studien)
DESCRIPTION:Die Ausstellung K o s t p r o b e n ist eine Dokumentation individueller Eindrücke\, die auf einer Exkursion ins Kosovo und nach Albanien von Studierenden gesammelt wurden. Alle Interessierten sind zur Eröffnung der Ausstellung herzlich eingeladen!\nKatja Manz\, 0371 531 38328\, katja.manz@phil.tu-chemnitz.de
ORGANIZER:MAILTO:katja.manz@phil.tu-chemnitz.de
UID:16728@www.tu-chemnitz.de
CREATED:20150127T204900Z
DTSTAMP:20210802T185444Z
END:VEVENT
END:VCALENDAR
