BEGIN:VCALENDAR
VERSION:2.0
PRODID:TU Chemnitz
METHOD:PUBLISH
X-WR-CALNAME:Veranstaltungen der TU Chemnitz
X-WR-TIMEZONE:Europe/Berlin
BEGIN:VEVENT
CLASS:PUBLIC
DTSTART;TZID="Europe/Berlin":20150129T100000
DTEND;TZID="Europe/Berlin":20150129T100000
LOCATION:Str. der Nationen 62\, Chemnitz (Böttcher-Bau)
SUMMARY:Arbeitsgruppenseminar: Aktuelle Probleme der nichtlinearen Dynamik (Fakultät für Naturwissenschaften\, Institut für Physik)
DESCRIPTION:Thema: "5. Chemnitz-Dresden Focus Meeting on Nonlinear Dynamics and Nonequilibrium Statistical Physics"\n ()\nProf. Dr. Günter Radons
ORGANIZER:MAILTO:feige@physik.tu-chemnitz.de
UID:16722@www.tu-chemnitz.de
CREATED:20150123T124900Z
DTSTAMP:20210802T185553Z
END:VEVENT
END:VCALENDAR
