BEGIN:VCALENDAR
VERSION:2.0
PRODID:TU Chemnitz
METHOD:PUBLISH
X-WR-CALNAME:Veranstaltungen der TU Chemnitz
X-WR-TIMEZONE:Europe/Berlin
BEGIN:VEVENT
CLASS:PUBLIC
DTSTART;TZID="Europe/Berlin":20150128T210000
DTEND;TZID="Europe/Berlin":20150128T230000
LOCATION:Club der Kulturen
SUMMARY:Mailian night (Studenten des Chemnitz NMUN 2015)
DESCRIPTION:Festabend im Rahmen des Chemnitz NMUN 2015. Snacks\, Tombola\, Quiz\, afrikanische Musik.\nAnja Braune\, 0371 531-27710\, anja.braune@phil.tu-chemnitz.de
ORGANIZER:MAILTO:robert.steudtner@phil.tu-chemnitz.de
UID:16718@www.tu-chemnitz.de
CREATED:20150122T135300Z
DTSTAMP:20210802T185557Z
END:VEVENT
END:VCALENDAR
