BEGIN:VCALENDAR
VERSION:2.0
PRODID:TU Chemnitz
METHOD:PUBLISH
X-WR-CALNAME:Veranstaltungen der TU Chemnitz
X-WR-TIMEZONE:Europe/Berlin
BEGIN:VEVENT
CLASS:PUBLIC
DTSTART;TZID="Europe/Berlin":20150203T171500
DTEND;TZID="Europe/Berlin":20150203T184500
LOCATION:Wilhelm-Raabe-Str. 43\, Chemnitz
SUMMARY:Antrittsvorlesung von Frau Prof. Dr. Anja Strobel und Herrn Prof. Dr. Bertolt Meyer (Fakultät für Human- und Sozialwissenschaften\, Institut für Psychologie)
DESCRIPTION:Thema der Antrittsvorlesung: Diversität und Denkfreude als Erfolgsfaktorenin Schule und Beruf: Betrachtungen auf Gruppen- und Individualebene\nProf. Dr. Anja Strobel und Prof. Dr. Bertolt Meyer\nJasmin Reinhard\, 0371 531-37546\, jasmin.reinhard@hsw.tu-chemnitz.de
ORGANIZER:MAILTO:jasmin.reinhard@hsw.tu-chemnitz.de
UID:16713@www.tu-chemnitz.de
CREATED:20150116T141600Z
DTSTAMP:20210802T185449Z
END:VEVENT
END:VCALENDAR
