BEGIN:VCALENDAR
VERSION:2.0
PRODID:TU Chemnitz
METHOD:PUBLISH
X-WR-CALNAME:Veranstaltungen der TU Chemnitz
X-WR-TIMEZONE:Europe/Berlin
BEGIN:VEVENT
CLASS:PUBLIC
DTSTART;TZID="Europe/Berlin":20150305T110000
DTEND;TZID="Europe/Berlin":20150306T140000
LOCATION:Str. der Nationen 62\, Chemnitz (Altes Heizhaus)
SUMMARY:GI Fachgruppentreffen Betriebssysteme (Fakultät für Informatik\, Professur Betriebssysteme )
DESCRIPTION:Das Motto des diesjährigen Frühjahrstreffen der Fachgruppe Betriebssysteme ist "New Paradigms".\nM. Werner\, (0371) 531-25650\, mwerner@cs.tu-chemnitz.de
ORGANIZER:MAILTO:matthias.werner@informatik.tu-chemnitz.de
UID:16709@www.tu-chemnitz.de
CREATED:20150114T141500Z
DTSTAMP:20210802T185344Z
END:VEVENT
END:VCALENDAR
