BEGIN:VCALENDAR
VERSION:2.0
PRODID:TU Chemnitz
METHOD:PUBLISH
X-WR-CALNAME:Veranstaltungen der TU Chemnitz
X-WR-TIMEZONE:Europe/Berlin
BEGIN:VEVENT
CLASS:PUBLIC
DTSTART;TZID="Europe/Berlin":20150122T153000
DTEND;TZID="Europe/Berlin":20150122T170000
LOCATION:Reichenhainer Str. 90\, Chemnitz (Zentr. Hörsaal- und Seminargebäude)
SUMMARY:Zum Zusammenhang zwischen Sprachpolitik und Sprachwandel (Philosophische Fakultät\, Professur Europäische Regierungssysteme im Vergleich)
DESCRIPTION:Der Vortrag findet im Rahmen der Vorlesung "Politische Soziologie" statt. Die Veranstaltung ist kostenfrei\, eine Anmeldung ist nicht erforderlich.\nDr. des. Lars Bülow\, Universität Passau\nMichael Partmann\, 0371/531-38573\, Michael.Partmann@phil.tu-chemnitz.de
ORGANIZER:MAILTO:michael.partmann@phil.tu-chemnitz.de
UID:16706@www.tu-chemnitz.de
CREATED:20150114T115300Z
DTSTAMP:20210802T185556Z
END:VEVENT
END:VCALENDAR
