BEGIN:VCALENDAR
VERSION:2.0
PRODID:TU Chemnitz
METHOD:PUBLISH
X-WR-CALNAME:Veranstaltungen der TU Chemnitz
X-WR-TIMEZONE:Europe/Berlin
BEGIN:VEVENT
CLASS:PUBLIC
DTSTART;TZID="Europe/Berlin":20150127T113000
DTEND;TZID="Europe/Berlin":20150127T130000
LOCATION:Reichenhainer Str. 90\, Chemnitz (Zentr. Hörsaal- und Seminargebäude)
SUMMARY:Marktüberwachung und Produktsicherheit (Fakultät für Wirtschaftswissenschaften\, Professur für Privatrecht und Recht des geistigen Eigentums)
DESCRIPTION:Im Rahmen der Vorlesung Recht und Technik gibt der Vortrag Einblicke in die Praxis der Marktüberwachung in Sachsen und stellt den Bezug zum Themenfeld der Produktsicherheit her.\nDipl.-Ing. Günter Kondla\nMarius Grathwohl\, 0371-531-39829
ORGANIZER:MAILTO:marius.grathwohl@wirtschaft.tu-chemnitz.de
UID:16702@www.tu-chemnitz.de
CREATED:20150113T161300Z
DTSTAMP:20210802T185600Z
END:VEVENT
END:VCALENDAR
