BEGIN:VCALENDAR
VERSION:2.0
PRODID:TU Chemnitz
METHOD:PUBLISH
X-WR-CALNAME:Veranstaltungen der TU Chemnitz
X-WR-TIMEZONE:Europe/Berlin
BEGIN:VEVENT
CLASS:PUBLIC
DTSTART;TZID="Europe/Berlin":20150113T171500
DTEND;TZID="Europe/Berlin":20150113T184500
LOCATION:Reichenhainer Str. 70\, Chemnitz (Rühlmann-Bau)
SUMMARY:Was tun Parteien gegen Europakritik? (Philosophische Fakultät\, Politische Systeme\, Politische Institutionen)
DESCRIPTION:Nico Lange\, Konrad-Adenauer-Stiftung e.V.\nDr. Sebastian Liebold\, sebastian.liebold@phil.tu-chemnitz.de
ORGANIZER:MAILTO:sebastian.liebold@phil.tu-chemnitz.de
UID:16699@www.tu-chemnitz.de
CREATED:20150112T133700Z
DTSTAMP:20210802T185552Z
END:VEVENT
END:VCALENDAR
