BEGIN:VCALENDAR
VERSION:2.0
PRODID:TU Chemnitz
METHOD:PUBLISH
X-WR-CALNAME:Veranstaltungen der TU Chemnitz
X-WR-TIMEZONE:Europe/Berlin
BEGIN:VEVENT
CLASS:PUBLIC
DTSTART;TZID="Europe/Berlin":20150119T190000
DTEND;TZID="Europe/Berlin":20150119T203000
LOCATION:Str. der Nationen 12\, Chemnitz (Rawema-Gebäude)
SUMMARY:Aufruf zur Verantwortung. Verantwortung im philosophischen Diskurs (Zentrum für Lehrerbildung\, Juniorprofessur Grundschuldidaktik Philosophieren mit Kindern)
DESCRIPTION:Prof. Dr. Egbert Witte \nMinkyung Kim\, 0371/ 531 34431\, minkyung.kim@zlb.tu-chemnitz.de
ORGANIZER:MAILTO:minkyung.kim@zlb.tu-chemnitz.de
UID:16641@www.tu-chemnitz.de
CREATED:20141216T124800Z
DTSTAMP:20210802T185557Z
END:VEVENT
END:VCALENDAR
