BEGIN:VCALENDAR
VERSION:2.0
PRODID:TU Chemnitz
METHOD:PUBLISH
X-WR-CALNAME:Veranstaltungen der TU Chemnitz
X-WR-TIMEZONE:Europe/Berlin
BEGIN:VEVENT
CLASS:PUBLIC
DTSTART;TZID="Europe/Berlin":20141218T160000
DTEND;TZID="Europe/Berlin":20141218T180000
LOCATION:Rathaus Chemnitz\, Stadtverordnetensaal
SUMMARY:"Wertewandel Ost" - Herausforderungen & Perspektiven Ostdeutschlands (zebra werbeagentur GmbH Chemnitz)
DESCRIPTION:Präsentation der Studie "Wertewandel Ost" mit anschließender Podiumsdiskussion und Buffet\nu.a. Dagmar Rothacher\, Bundesministerium für Wirtschaft und Energie\, Politikwissenschaftler Prof. Dr. Eckhard Jesse\nAnmeldung: sylvi.weidlich@zebra.de\, Tel. 0351 88827-283
ORGANIZER:MAILTO:mario.steinebach@verwaltung.tu-chemnitz.de
UID:16636@www.tu-chemnitz.de
CREATED:20141210T164200Z
DTSTAMP:20210802T185658Z
END:VEVENT
END:VCALENDAR
