BEGIN:VCALENDAR
VERSION:2.0
PRODID:TU Chemnitz
METHOD:PUBLISH
X-WR-CALNAME:Veranstaltungen der TU Chemnitz
X-WR-TIMEZONE:Europe/Berlin
BEGIN:VEVENT
CLASS:PUBLIC
DTSTART;TZID="Europe/Berlin":20141209T134500
DTEND;TZID="Europe/Berlin":20141209T151500
LOCATION:Wilhelm-Raabe-Str. 43\, Chemnitz
SUMMARY:Die Intellektuellen und der »Kulturkrieg« 1914–1918 (Philosophische Fakultät\, Politische Theorie und Ideengeschichte)
DESCRIPTION:Im Ersten Weltkrieg betätigen sich die Intellektuellen von Beginn an als „Kämpfer mit der Feder“. Der Vortrag widmet sie der Frage\, wie sie dies an der „Heimatfront“ tun\, vornehmlich im Deutschen Reich\, aber auch in Frankreich und England.\nProf. Dr. Gangolf Hübinger\, Europa-Universität Frankfurt (Oder)\nAnja Braune\, 0371 531-27710\, anja.braune@phil.tu-chemnitz.de
ORGANIZER:MAILTO:robert.steudtner@phil.tu-chemnitz.de
UID:16621@www.tu-chemnitz.de
CREATED:20141208T132100Z
DTSTAMP:20210802T185702Z
END:VEVENT
END:VCALENDAR
