BEGIN:VCALENDAR
VERSION:2.0
PRODID:TU Chemnitz
METHOD:PUBLISH
X-WR-CALNAME:Veranstaltungen der TU Chemnitz
X-WR-TIMEZONE:Europe/Berlin
BEGIN:VEVENT
CLASS:PUBLIC
DTSTART;TZID="Europe/Berlin":20141211T131500
DTEND;TZID="Europe/Berlin":20141211T151500
LOCATION:Reichenhainer Str. 90\, Chemnitz (Zentr. Hörsaal- und Seminargebäude)
SUMMARY:Future Directions of Augmented Reality Display Technologies (Philosophische Fakultät\, Mediennutzung)
DESCRIPTION:This course will introduce new directions and challenges in display technologies for AR. First\, context awareness and sensing issues\, then technologies for more flexible mixture of VR and AR\, finally "Does and Don´t" will be discussed\nAssociate Prof. Dr. Kiyoshi Kiyokawa (University Osaka\, Cybermedia Center)\nwww.crossworlds.info
ORGANIZER:MAILTO:steve.funke@phil.tu-chemnitz.de
UID:16616@www.tu-chemnitz.de
CREATED:20141205T170700Z
DTSTAMP:20210802T185700Z
END:VEVENT
END:VCALENDAR
