BEGIN:VCALENDAR
VERSION:2.0
PRODID:TU Chemnitz
METHOD:PUBLISH
X-WR-CALNAME:Veranstaltungen der TU Chemnitz
X-WR-TIMEZONE:Europe/Berlin
BEGIN:VEVENT
CLASS:PUBLIC
DTSTART;TZID="Europe/Berlin":20010514T160000
DTEND;TZID="Europe/Berlin":20010514T173000
LOCATION:Uni-Teil 1: Str. der Nationen 62\, Chemnitz (Böttcher-Bau)
SUMMARY:50. Informatik-Kolloquium: Ein Ansatz zur agentenorientierten Software-Entwicklung (Fakultät für Informatik)
DESCRIPTION:Die Teilnahme am Kolloquium ist frei und offen für alle\nInteressenten.\nProf. Dr. Dr.h.c. Wilfried Brauer (TU München)\nkolloquium@informatik.tu-chemnitz.de
ORGANIZER:MAILTO:lro@informatik.tu-chemnitz.de
UID:1661@www.tu-chemnitz.de
CREATED:20010502T142500Z
DTSTAMP:20210802T202744Z
END:VEVENT
END:VCALENDAR
