BEGIN:VCALENDAR
VERSION:2.0
PRODID:TU Chemnitz
METHOD:PUBLISH
X-WR-CALNAME:Veranstaltungen der TU Chemnitz
X-WR-TIMEZONE:Europe/Berlin
BEGIN:VEVENT
CLASS:PUBLIC
DTSTART;TZID="Europe/Berlin":20150321T080000
DTEND;TZID="Europe/Berlin":20150322T180000
LOCATION:Reichenhainer Str. 90\, Chemnitz (Zentr. Hörsaal- und Seminargebäude)
SUMMARY:Chemnitzer Linux-Tage (TU Chemnitz\, IN Chemnitz e. V.)
DESCRIPTION:Die Chemnitzer Linux-Tage sind eine Veranstaltung rund um das Thema Linux und Open Source für jedermann. Neben zahlreichen Vorträgen und Workshops gibt es eine umfangreiche Präsentation von Projekten und Firmen. Weitere Angebote runden das Programm ab.\nhttps://chemnitzer.linux-tage.de 0371/531-25807\, info@linux-tage.de
ORGANIZER:MAILTO:antje.schreiber@hrz.tu-chemnitz.de
UID:16602@www.tu-chemnitz.de
CREATED:20141128T215000Z
DTSTAMP:20210802T185339Z
END:VEVENT
END:VCALENDAR
