BEGIN:VCALENDAR
VERSION:2.0
PRODID:TU Chemnitz
METHOD:PUBLISH
X-WR-CALNAME:Veranstaltungen der TU Chemnitz
X-WR-TIMEZONE:Europe/Berlin
BEGIN:VEVENT
CLASS:PUBLIC
DTSTART;TZID="Europe/Berlin":20150108T160000
DTEND;TZID="Europe/Berlin":20150108T173000
LOCATION:Reichenhainer Str. 70\, Chemnitz (Rühlmann-Bau)
SUMMARY:Chemnitzer Mathematisches Colloquium (Fakultät für Mathematik)
DESCRIPTION:Prof. Dr. Anja Richter\, City University of New York\nDas Kolloquium wird von Herrn Prof. Dr. Thorsten Schmidt geleitet.
ORGANIZER:MAILTO:margit.matt@mathematik.tu-chemnitz.de
UID:16598@www.tu-chemnitz.de
CREATED:20141127T131200Z
DTSTAMP:20210802T185558Z
END:VEVENT
END:VCALENDAR
