BEGIN:VCALENDAR
VERSION:2.0
PRODID:TU Chemnitz
METHOD:PUBLISH
X-WR-CALNAME:Veranstaltungen der TU Chemnitz
X-WR-TIMEZONE:Europe/Berlin
BEGIN:VEVENT
CLASS:PUBLIC
DTSTART;TZID="Europe/Berlin":20141212T134500
DTEND;TZID="Europe/Berlin":20141212T164500
LOCATION:Reichenhainer Str. 90\, Chemnitz (Zentr. Hörsaal- und Seminargebäude)
SUMMARY:LiT.Shortcut: "Motivation in der Hochschullehre"  (TU Chemnitz\, "Lehrpraxis im Transfer" )
DESCRIPTION:Im Fokus steht die Frage\, wie Erkenntnisse der Motivationspsychologie auf die Hochschullehre übertragen werden können. Bereichert wird die Vorstellung aktueller Befunde aus der Forschung durch Beispiele der Lehrpraxis von Prof. Rudolph.\nProf. Udo Rudolph\, Fak. f. Human- und Sozialwissenschaften \nSandra Kube\, 0371/531 34819\, lit@tu-chemnitz.de 
ORGANIZER:MAILTO:sandra.kube@verwaltung.tu-chemnitz.de
UID:16593@www.tu-chemnitz.de
CREATED:20141125T140200Z
DTSTAMP:20210802T185656Z
END:VEVENT
END:VCALENDAR
