BEGIN:VCALENDAR
VERSION:2.0
PRODID:TU Chemnitz
METHOD:PUBLISH
X-WR-CALNAME:Veranstaltungen der TU Chemnitz
X-WR-TIMEZONE:Europe/Berlin
BEGIN:VEVENT
CLASS:PUBLIC
DTSTART;TZID="Europe/Berlin":20010613T170000
DTEND;TZID="Europe/Berlin":20010613T183000
LOCATION:Uni-Teil 3: Reichenhainer Str. 70\, Chemnitz (Zentr. Hörsaal- und Seminargebäude)
SUMMARY:Über Staubmodellierung in der Astrophysik (Fakultät für Naturwissenschaften\, Institut für Physik)
DESCRIPTION:Physikalisches Kolloquium\nProf. Dr. Christian Klingenberg\, Institut für angewandte Mathematik\, Universität Würzburg\nProf. Dr. D. Gerlich \, Tel. 3135
ORGANIZER:MAILTO:sumar@hrz.tu-chemnitz.de
UID:1658@www.tu-chemnitz.de
CREATED:20010502T124600Z
DTSTAMP:20210802T202728Z
END:VEVENT
END:VCALENDAR
