BEGIN:VCALENDAR
VERSION:2.0
PRODID:TU Chemnitz
METHOD:PUBLISH
X-WR-CALNAME:Veranstaltungen der TU Chemnitz
X-WR-TIMEZONE:Europe/Berlin
BEGIN:VEVENT
CLASS:PUBLIC
DTSTART;TZID="Europe/Berlin":20141210T210000
DTEND;TZID="Europe/Berlin":20141211T030000
LOCATION:Südbahnhof Chemnitz
SUMMARY:Weihnachtsfeier FSRMB + FSR Physik (FSR MB + FSR Physik)
DESCRIPTION:Auch dieses Jahr veranstaltet der FSR MB in Kooperation mit dem FSR Physik wieder eine legendäre Weihnachtsfeier.Studenten anderer Fachrichtungen sind natürlich auch herzlich willkommen.\nFSRMB\, 037153116300\, fsrmb@tu-chemnitz.de
ORGANIZER:MAILTO:georg.schuffenhauer@s2011.tu-chemnitz.de
UID:16562@www.tu-chemnitz.de
CREATED:20141112T150700Z
DTSTAMP:20210802T185700Z
END:VEVENT
END:VCALENDAR
