BEGIN:VCALENDAR
VERSION:2.0
PRODID:TU Chemnitz
METHOD:PUBLISH
X-WR-CALNAME:Veranstaltungen der TU Chemnitz
X-WR-TIMEZONE:Europe/Berlin
BEGIN:VEVENT
CLASS:PUBLIC
DTSTART;TZID="Europe/Berlin":20141123T103000
DTEND;TZID="Europe/Berlin":20141123T113000
LOCATION:Reichenhainer Str. 90\, Chemnitz (Zentr. Hörsaal- und Seminargebäude)
SUMMARY:Kindervorlesung: "Warum brennt Feuer?" (TU Chemnitz\, Kinder-Uni Chemnitz)
DESCRIPTION:Richtige Feuerwehrmänner kommen in den Hörsaal und erklären\, wie ein richtiger Feuerwehreinsatz abläuft. Die Sirene dröhnt und das Löschauto startet - was die Feuerwehr macht\, wenn es irgendwo brennt - das wird in dieser Vorlesung erklärt.\nKnut Liebe\, Feuerwehr Chemnitz\nBrita Stingl\, 13300\, kinderuni@tu-chemnitz.de
ORGANIZER:MAILTO:brita.stingl@verwaltung.tu-chemnitz.de
UID:16551@www.tu-chemnitz.de
CREATED:20141107T092600Z
DTSTAMP:20210802T185822Z
END:VEVENT
END:VCALENDAR
